Package: ChIPexoQual Version: 1.35.0 Command: /home/biocbuild/bbs-3.23-bioc/R/bin/R CMD INSTALL ChIPexoQual StartedAt: 2025-11-14 15:44:07 -0500 (Fri, 14 Nov 2025) EndedAt: 2025-11-14 15:44:51 -0500 (Fri, 14 Nov 2025) EllapsedTime: 44.1 seconds RetCode: 0 Status: OK