Package: ChIPexoQual Version: 1.35.0 Command: /home/biocbuild/bbs-3.23-bioc/R/bin/R CMD build --keep-empty-dirs --no-resave-data ChIPexoQual StartedAt: 2025-11-13 16:46:51 -0500 (Thu, 13 Nov 2025) EndedAt: 2025-11-13 16:49:13 -0500 (Thu, 13 Nov 2025) EllapsedTime: 142.1 seconds RetCode: 0 Status: OK PackageFile: ChIPexoQual_1.35.0.tar.gz PackageFileSize: 2.344 MiB