Package: ChIPexoQual Version: 1.35.0 Command: /Library/Frameworks/R.framework/Resources/bin/R CMD INSTALL ChIPexoQual StartedAt: 2025-11-13 15:23:24 -0500 (Thu, 13 Nov 2025) EndedAt: 2025-11-13 15:23:42 -0500 (Thu, 13 Nov 2025) EllapsedTime: 17.9 seconds RetCode: 0 Status: OK