Package: ChIPexoQual Version: 1.35.0 Command: /Library/Frameworks/R.framework/Resources/bin/R CMD build --keep-empty-dirs --no-resave-data ChIPexoQual StartedAt: 2025-11-13 15:56:33 -0500 (Thu, 13 Nov 2025) EndedAt: 2025-11-13 15:57:38 -0500 (Thu, 13 Nov 2025) EllapsedTime: 64.8 seconds RetCode: 0 Status: OK PackageFile: ChIPexoQual_1.35.0.tar.gz PackageFileSize: 2.459 MiB