Package: ChIPexoQual Version: 1.35.0 Command: rm -rf ChIPexoQual.buildbin-libdir && mkdir ChIPexoQual.buildbin-libdir && /Users/biocbuild/BBS/utils/build-universal.sh ChIPexoQual_1.35.0.tar.gz /Library/Frameworks/R.framework/Resources/bin/R ChIPexoQual.buildbin-libdir StartedAt: 2025-11-13 23:31:24 -0500 (Thu, 13 Nov 2025) EndedAt: 2025-11-13 23:31:48 -0500 (Thu, 13 Nov 2025) EllapsedTime: 23.4 seconds RetCode: 0 Status: OK PackageFile: ChIPexoQual_1.35.0.tgz PackageFileSize: 2.525 MiB