Package: ChIPexoQual Version: 1.35.0 Maintainer: Rene Welch MaintainerEmail: welch at stat.wisc.edu git_url: https://git.bioconductor.org/packages/ChIPexoQual git_branch: devel git_last_commit: c1a42ad git_last_commit_date: 2025-10-29 10:36:27 -0500 (Wed, 29 Oct 2025)