Package: ChIPanalyser Version: 1.33.0 Command: /home/biocbuild/bbs-3.23-bioc/R/bin/R CMD build --keep-empty-dirs --no-resave-data ChIPanalyser StartedAt: 2025-11-14 16:46:56 -0500 (Fri, 14 Nov 2025) EndedAt: 2025-11-14 17:02:25 -0500 (Fri, 14 Nov 2025) EllapsedTime: 928.8 seconds RetCode: 0 Status: OK PackageFile: ChIPanalyser_1.33.0.tar.gz PackageFileSize: 1.21 MiB