Package: ChIPanalyser Version: 1.33.0 Command: /Library/Frameworks/R.framework/Resources/bin/R CMD INSTALL ChIPanalyser StartedAt: 2025-11-14 15:17:53 -0500 (Fri, 14 Nov 2025) EndedAt: 2025-11-14 15:18:08 -0500 (Fri, 14 Nov 2025) EllapsedTime: 15.0 seconds RetCode: 0 Status: OK