Package: ChIPanalyser Version: 1.33.0 Command: rm -rf ChIPanalyser.buildbin-libdir && mkdir ChIPanalyser.buildbin-libdir && /Users/biocbuild/BBS/utils/build-universal.sh ChIPanalyser_1.33.0.tar.gz /Library/Frameworks/R.framework/Resources/bin/R ChIPanalyser.buildbin-libdir StartedAt: 2025-11-14 23:26:23 -0500 (Fri, 14 Nov 2025) EndedAt: 2025-11-14 23:26:41 -0500 (Fri, 14 Nov 2025) EllapsedTime: 18.3 seconds RetCode: 0 Status: OK PackageFile: ChIPanalyser_1.33.0.tgz PackageFileSize: 1.993 MiB