Package: ChIPanalyser Version: 1.33.0 Maintainer: Patrick C.N. Martin MaintainerEmail: pcnmartin at gmail.com git_url: https://git.bioconductor.org/packages/ChIPanalyser git_branch: devel git_last_commit: 873269e git_last_commit_date: 2025-10-29 10:40:34 -0500 (Wed, 29 Oct 2025)