Package: ChIPXpress Version: 1.55.0 Command: /Library/Frameworks/R.framework/Resources/bin/R CMD INSTALL ChIPXpress StartedAt: 2025-11-13 15:34:37 -0500 (Thu, 13 Nov 2025) EndedAt: 2025-11-13 15:34:50 -0500 (Thu, 13 Nov 2025) EllapsedTime: 12.6 seconds RetCode: 0 Status: OK