Package: ChIPXpress Version: 1.55.0 Maintainer: George Wu MaintainerEmail: georgetwu at gmail.com git_url: https://git.bioconductor.org/packages/ChIPXpress git_branch: devel git_last_commit: 7be5116 git_last_commit_date: 2025-10-29 10:11:43 -0500 (Wed, 29 Oct 2025)