Package: ChIPQC Version: 1.47.0 Command: /home/biocbuild/bbs-3.23-bioc/R/bin/R CMD INSTALL ChIPQC StartedAt: 2025-11-13 16:07:27 -0500 (Thu, 13 Nov 2025) EndedAt: 2025-11-13 16:07:27 -0500 (Thu, 13 Nov 2025) EllapsedTime: 0.2 seconds RetCode: 1 Status: ERROR