Package: ChIPQC Version: 1.47.0 Command: /Library/Frameworks/R.framework/Resources/bin/R CMD INSTALL ChIPQC StartedAt: 2025-11-12 15:46:44 -0500 (Wed, 12 Nov 2025) EndedAt: 2025-11-12 15:46:44 -0500 (Wed, 12 Nov 2025) EllapsedTime: 0.1 seconds RetCode: 1 Status: ERROR