Package: ChIPQC Version: 1.47.0 Maintainer: Tom Carroll , Rory Stark MaintainerEmail: bioconductor at starkhome.com git_url: https://git.bioconductor.org/packages/ChIPQC git_branch: devel git_last_commit: 8be4dc7 git_last_commit_date: 2025-10-29 10:18:53 -0500 (Wed, 29 Oct 2025)