Package: ChIPComp Version: 1.41.0 Command: /home/biocbuild/bbs-3.23-bioc/R/bin/R CMD INSTALL ChIPComp StartedAt: 2025-11-13 15:34:35 -0500 (Thu, 13 Nov 2025) EndedAt: 2025-11-13 15:35:05 -0500 (Thu, 13 Nov 2025) EllapsedTime: 30.8 seconds RetCode: 0 Status: OK