Package: ChIPComp Version: 1.41.0 Command: /Library/Frameworks/R.framework/Resources/bin/R CMD INSTALL ChIPComp StartedAt: 2025-11-12 15:36:50 -0500 (Wed, 12 Nov 2025) EndedAt: 2025-11-12 15:37:04 -0500 (Wed, 12 Nov 2025) EllapsedTime: 13.7 seconds RetCode: 0 Status: OK