Package: ChIPComp Version: 1.41.0 Command: /Library/Frameworks/R.framework/Resources/bin/R CMD build --keep-empty-dirs --no-resave-data ChIPComp StartedAt: 2025-11-12 15:58:15 -0500 (Wed, 12 Nov 2025) EndedAt: 2025-11-12 15:58:40 -0500 (Wed, 12 Nov 2025) EllapsedTime: 24.3 seconds RetCode: 0 Status: OK PackageFile: ChIPComp_1.41.0.tar.gz PackageFileSize: 595.9 KiB