Package: ChAMP Version: 2.41.0 Command: /Library/Frameworks/R.framework/Resources/bin/R CMD INSTALL ChAMP StartedAt: 2025-11-14 15:34:39 -0500 (Fri, 14 Nov 2025) EndedAt: 2025-11-14 15:35:02 -0500 (Fri, 14 Nov 2025) EllapsedTime: 23.2 seconds RetCode: 0 Status: OK