Package: ChAMP Version: 2.41.0 Command: /Library/Frameworks/R.framework/Resources/bin/R CMD build --keep-empty-dirs --no-resave-data ChAMP StartedAt: 2025-11-14 15:52:35 -0500 (Fri, 14 Nov 2025) EndedAt: 2025-11-14 15:53:32 -0500 (Fri, 14 Nov 2025) EllapsedTime: 57.6 seconds RetCode: 0 Status: OK PackageFile: ChAMP_2.41.0.tar.gz PackageFileSize: 7.963 MiB