Package: ChAMP Version: 2.41.0 Command: rm -rf ChAMP.buildbin-libdir && mkdir ChAMP.buildbin-libdir && /Users/biocbuild/BBS/utils/build-universal.sh ChAMP_2.41.0.tar.gz /Library/Frameworks/R.framework/Resources/bin/R ChAMP.buildbin-libdir StartedAt: 2025-11-14 23:26:15 -0500 (Fri, 14 Nov 2025) EndedAt: 2025-11-14 23:26:52 -0500 (Fri, 14 Nov 2025) EllapsedTime: 36.7 seconds RetCode: 0 Status: OK PackageFile: ChAMP_2.41.0.tgz PackageFileSize: 4.197 MiB