Package: CexoR Version: 1.49.0 Command: /home/biocbuild/bbs-3.23-bioc/R/bin/R CMD build --keep-empty-dirs --no-resave-data CexoR StartedAt: 2025-11-11 16:48:12 -0500 (Tue, 11 Nov 2025) EndedAt: 2025-11-11 16:49:11 -0500 (Tue, 11 Nov 2025) EllapsedTime: 59.1 seconds RetCode: 0 Status: OK PackageFile: CexoR_1.49.0.tar.gz PackageFileSize: 1.66 MiB