Package: CexoR Version: 1.49.0 Command: /Library/Frameworks/R.framework/Resources/bin/R CMD build --keep-empty-dirs --no-resave-data CexoR StartedAt: 2025-11-13 15:55:20 -0500 (Thu, 13 Nov 2025) EndedAt: 2025-11-13 15:55:46 -0500 (Thu, 13 Nov 2025) EllapsedTime: 26.3 seconds RetCode: 0 Status: OK PackageFile: CexoR_1.49.0.tar.gz PackageFileSize: 1.66 MiB