Package: CexoR Version: 1.49.0 Command: rm -rf CexoR.buildbin-libdir && mkdir CexoR.buildbin-libdir && /Users/biocbuild/BBS/utils/build-universal.sh CexoR_1.49.0.tar.gz /Library/Frameworks/R.framework/Resources/bin/R CexoR.buildbin-libdir StartedAt: 2025-11-12 20:53:27 -0500 (Wed, 12 Nov 2025) EndedAt: 2025-11-12 20:53:44 -0500 (Wed, 12 Nov 2025) EllapsedTime: 17.4 seconds RetCode: 0 Status: OK PackageFile: CexoR_1.49.0.tgz PackageFileSize: 1.694 MiB