Package: CexoR Version: 1.49.0 Maintainer: Pedro Madrigal MaintainerEmail: pmadrigal at ebi.ac.uk git_url: https://git.bioconductor.org/packages/CexoR git_branch: devel git_last_commit: e9655e9 git_last_commit_date: 2025-10-29 11:12:38 -0500 (Wed, 29 Oct 2025)