Package: Cepo Version: 1.17.0 Command: /Library/Frameworks/R.framework/Resources/bin/R CMD INSTALL Cepo StartedAt: 2025-11-16 15:12:47 -0500 (Sun, 16 Nov 2025) EndedAt: 2025-11-16 15:13:02 -0500 (Sun, 16 Nov 2025) EllapsedTime: 14.7 seconds RetCode: 0 Status: OK