Package: CelliD Version: 1.19.0 Command: /home/biocbuild/bbs-3.23-bioc/R/bin/R CMD INSTALL CelliD StartedAt: 2025-11-13 15:54:26 -0500 (Thu, 13 Nov 2025) EndedAt: 2025-11-13 15:55:36 -0500 (Thu, 13 Nov 2025) EllapsedTime: 70.0 seconds RetCode: 0 Status: OK