Package: CelliD Version: 1.19.0 Command: /home/biocbuild/bbs-3.23-bioc/R/bin/R CMD build --keep-empty-dirs --no-resave-data CelliD StartedAt: 2025-11-14 16:41:00 -0500 (Fri, 14 Nov 2025) EndedAt: 2025-11-14 16:50:54 -0500 (Fri, 14 Nov 2025) EllapsedTime: 594.5 seconds RetCode: 0 Status: OK PackageFile: CelliD_1.19.0.tar.gz PackageFileSize: 2.505 MiB