Package: CelliD Version: 1.19.0 Command: /Library/Frameworks/R.framework/Resources/bin/R CMD INSTALL CelliD StartedAt: 2025-11-14 15:29:28 -0500 (Fri, 14 Nov 2025) EndedAt: 2025-11-14 15:29:53 -0500 (Fri, 14 Nov 2025) EllapsedTime: 24.8 seconds RetCode: 0 Status: OK