Package: CelliD Version: 1.19.0 Command: /Library/Frameworks/R.framework/Resources/bin/R CMD build --keep-empty-dirs --no-resave-data CelliD StartedAt: 2025-11-13 15:54:09 -0500 (Thu, 13 Nov 2025) EndedAt: 2025-11-13 15:57:51 -0500 (Thu, 13 Nov 2025) EllapsedTime: 221.5 seconds RetCode: 0 Status: OK PackageFile: CelliD_1.19.0.tar.gz PackageFileSize: 2.578 MiB