Package: CelliD Version: 1.19.0 Maintainer: Akira Cortal MaintainerEmail: akira.cortal at institutimagine.org git_url: https://git.bioconductor.org/packages/CelliD git_branch: devel git_last_commit: bfb224e git_last_commit_date: 2025-10-29 11:07:10 -0500 (Wed, 29 Oct 2025)