Package: CellTrails Version: 1.29.0 Command: /home/biocbuild/bbs-3.23-bioc/R/bin/R CMD INSTALL CellTrails StartedAt: 2025-11-13 15:18:49 -0500 (Thu, 13 Nov 2025) EndedAt: 2025-11-13 15:19:18 -0500 (Thu, 13 Nov 2025) EllapsedTime: 29.1 seconds RetCode: 0 Status: OK