Package: CellTrails Version: 1.29.0 Command: /Library/Frameworks/R.framework/Resources/bin/R CMD INSTALL CellTrails StartedAt: 2025-11-13 15:12:00 -0500 (Thu, 13 Nov 2025) EndedAt: 2025-11-13 15:12:12 -0500 (Thu, 13 Nov 2025) EllapsedTime: 11.4 seconds RetCode: 0 Status: OK