Package: CellTrails Version: 1.29.0 Command: /Library/Frameworks/R.framework/Resources/bin/R CMD build --keep-empty-dirs --no-resave-data CellTrails StartedAt: 2025-11-13 15:54:50 -0500 (Thu, 13 Nov 2025) EndedAt: 2025-11-13 15:55:07 -0500 (Thu, 13 Nov 2025) EllapsedTime: 17.2 seconds RetCode: 0 Status: OK PackageFile: CellTrails_1.29.0.tar.gz PackageFileSize: 2.628 MiB