Package: CellTrails Version: 1.29.0 Command: rm -rf CellTrails.buildbin-libdir && mkdir CellTrails.buildbin-libdir && /Users/biocbuild/BBS/utils/build-universal.sh CellTrails_1.29.0.tar.gz /Library/Frameworks/R.framework/Resources/bin/R CellTrails.buildbin-libdir StartedAt: 2025-11-13 23:30:56 -0500 (Thu, 13 Nov 2025) EndedAt: 2025-11-13 23:31:11 -0500 (Thu, 13 Nov 2025) EllapsedTime: 15.3 seconds RetCode: 0 Status: OK PackageFile: CellTrails_1.29.0.tgz PackageFileSize: 3.017 MiB