Package: CellTrails Version: 1.29.0 Maintainer: Daniel Ellwanger MaintainerEmail: dc.ellwanger.dev at gmail.com git_url: https://git.bioconductor.org/packages/CellTrails git_branch: devel git_last_commit: 75d815a git_last_commit_date: 2025-10-29 10:46:02 -0500 (Wed, 29 Oct 2025)