Package: CellNOptR Version: 1.57.0 Command: /Library/Frameworks/R.framework/Resources/bin/R CMD INSTALL CellNOptR StartedAt: 2025-11-12 15:23:29 -0500 (Wed, 12 Nov 2025) EndedAt: 2025-11-12 15:23:36 -0500 (Wed, 12 Nov 2025) EllapsedTime: 6.5 seconds RetCode: 0 Status: OK