Package: CellNOptR Version: 1.57.0 Command: /Library/Frameworks/R.framework/Resources/bin/R CMD build --keep-empty-dirs --no-resave-data CellNOptR StartedAt: 2025-11-12 15:57:03 -0500 (Wed, 12 Nov 2025) EndedAt: 2025-11-12 15:57:14 -0500 (Wed, 12 Nov 2025) EllapsedTime: 11.1 seconds RetCode: 0 Status: OK PackageFile: CellNOptR_1.57.0.tar.gz PackageFileSize: 3.592 MiB