Package: CellNOptR Version: 1.57.0 Maintainer: Attila Gabor MaintainerEmail: attila.gabor at uni-heidelberg.de git_url: https://git.bioconductor.org/packages/CellNOptR git_branch: devel git_last_commit: 1b9d01e git_last_commit_date: 2025-10-29 10:09:33 -0500 (Wed, 29 Oct 2025)