Package: CellMixS Version: 1.27.0 Command: /home/biocbuild/bbs-3.23-bioc/R/bin/R CMD INSTALL CellMixS StartedAt: 2025-11-13 15:55:46 -0500 (Thu, 13 Nov 2025) EndedAt: 2025-11-13 15:56:14 -0500 (Thu, 13 Nov 2025) EllapsedTime: 27.8 seconds RetCode: 0 Status: OK