Package: CellMixS Version: 1.27.0 Command: /Library/Frameworks/R.framework/Resources/bin/R CMD INSTALL CellMixS StartedAt: 2025-11-13 15:32:44 -0500 (Thu, 13 Nov 2025) EndedAt: 2025-11-13 15:32:56 -0500 (Thu, 13 Nov 2025) EllapsedTime: 11.4 seconds RetCode: 0 Status: OK