Package: CellMixS Version: 1.27.0 Command: /Library/Frameworks/R.framework/Resources/bin/R CMD build --keep-empty-dirs --no-resave-data CellMixS StartedAt: 2025-11-13 15:54:29 -0500 (Thu, 13 Nov 2025) EndedAt: 2025-11-13 15:55:20 -0500 (Thu, 13 Nov 2025) EllapsedTime: 50.5 seconds RetCode: 0 Status: OK PackageFile: CellMixS_1.27.0.tar.gz PackageFileSize: 4.124 MiB