Package: CellMapper Version: 1.37.0 Command: /home/biocbuild/bbs-3.23-bioc/R/bin/R CMD check --install=check:CellMapper.install-out.txt --library=/home/biocbuild/bbs-3.23-bioc/R/site-library --timings CellMapper_1.37.0.tar.gz StartedAt: 2025-11-13 21:51:11 -0500 (Thu, 13 Nov 2025) EndedAt: 2025-11-13 21:55:14 -0500 (Thu, 13 Nov 2025) EllapsedTime: 242.3 seconds RetCode: 0 Status: WARNINGS CheckDir: CellMapper.Rcheck Warnings: 1