Package: CellMapper Version: 1.37.0 Command: /home/biocbuild/bbs-3.23-bioc/R/bin/R CMD build --keep-empty-dirs --no-resave-data CellMapper StartedAt: 2025-11-14 16:41:18 -0500 (Fri, 14 Nov 2025) EndedAt: 2025-11-14 16:43:01 -0500 (Fri, 14 Nov 2025) EllapsedTime: 103.0 seconds RetCode: 0 Status: OK PackageFile: CellMapper_1.37.0.tar.gz PackageFileSize: 206 KiB