Package: CellMapper Version: 1.37.0 Command: /Library/Frameworks/R.framework/Resources/bin/R CMD INSTALL CellMapper StartedAt: 2025-11-13 15:06:44 -0500 (Thu, 13 Nov 2025) EndedAt: 2025-11-13 15:06:47 -0500 (Thu, 13 Nov 2025) EllapsedTime: 2.8 seconds RetCode: 0 Status: OK