Package: CellMapper Version: 1.37.0 Command: /Library/Frameworks/R.framework/Resources/bin/R CMD build --keep-empty-dirs --no-resave-data CellMapper StartedAt: 2025-11-13 15:54:22 -0500 (Thu, 13 Nov 2025) EndedAt: 2025-11-13 15:55:00 -0500 (Thu, 13 Nov 2025) EllapsedTime: 37.4 seconds RetCode: 0 Status: OK PackageFile: CellMapper_1.37.0.tar.gz PackageFileSize: 206 KiB