Package: CellMapper Version: 1.37.0 Command: rm -rf CellMapper.buildbin-libdir && mkdir CellMapper.buildbin-libdir && /Users/biocbuild/BBS/utils/build-universal.sh CellMapper_1.37.0.tar.gz /Library/Frameworks/R.framework/Resources/bin/R CellMapper.buildbin-libdir StartedAt: 2025-11-13 23:30:51 -0500 (Thu, 13 Nov 2025) EndedAt: 2025-11-13 23:30:55 -0500 (Thu, 13 Nov 2025) EllapsedTime: 3.1 seconds RetCode: 0 Status: OK PackageFile: CellMapper_1.37.0.tgz PackageFileSize: 351.6 KiB