Package: CellBench Version: 1.27.0 Command: /home/biocbuild/bbs-3.23-bioc/R/bin/R CMD INSTALL CellBench StartedAt: 2025-11-13 15:57:34 -0500 (Thu, 13 Nov 2025) EndedAt: 2025-11-13 15:58:02 -0500 (Thu, 13 Nov 2025) EllapsedTime: 27.3 seconds RetCode: 0 Status: OK