Package: CellBench Version: 1.27.0 Command: /home/biocbuild/bbs-3.23-bioc/R/bin/R CMD build --keep-empty-dirs --no-resave-data CellBench StartedAt: 2025-11-13 16:40:29 -0500 (Thu, 13 Nov 2025) EndedAt: 2025-11-13 16:41:22 -0500 (Thu, 13 Nov 2025) EllapsedTime: 53.0 seconds RetCode: 0 Status: OK PackageFile: CellBench_1.27.0.tar.gz PackageFileSize: 3.043 MiB