Package: CellBench Version: 1.27.0 Command: /Library/Frameworks/R.framework/Resources/bin/R CMD INSTALL CellBench StartedAt: 2025-11-12 15:44:51 -0500 (Wed, 12 Nov 2025) EndedAt: 2025-11-12 15:45:02 -0500 (Wed, 12 Nov 2025) EllapsedTime: 10.6 seconds RetCode: 0 Status: OK